BEGIN:VCALENDAR
VERSION:2.0
PRODID:-//RAIN: Regional Accelerator &amp; Innovation Network - ECPv6.15.20//NONSGML v1.0//EN
CALSCALE:GREGORIAN
METHOD:PUBLISH
X-WR-CALNAME:RAIN: Regional Accelerator &amp; Innovation Network
X-ORIGINAL-URL:https://raincatalysts.org
X-WR-CALDESC:Events for RAIN: Regional Accelerator &amp; Innovation Network
REFRESH-INTERVAL;VALUE=DURATION:PT1H
X-Robots-Tag:noindex
X-PUBLISHED-TTL:PT1H
BEGIN:VTIMEZONE
TZID:America/Los_Angeles
BEGIN:DAYLIGHT
TZOFFSETFROM:-0800
TZOFFSETTO:-0700
TZNAME:PDT
DTSTART:20250309T100000
END:DAYLIGHT
BEGIN:STANDARD
TZOFFSETFROM:-0700
TZOFFSETTO:-0800
TZNAME:PST
DTSTART:20251102T090000
END:STANDARD
BEGIN:DAYLIGHT
TZOFFSETFROM:-0800
TZOFFSETTO:-0700
TZNAME:PDT
DTSTART:20260308T100000
END:DAYLIGHT
BEGIN:STANDARD
TZOFFSETFROM:-0700
TZOFFSETTO:-0800
TZNAME:PST
DTSTART:20261101T090000
END:STANDARD
BEGIN:DAYLIGHT
TZOFFSETFROM:-0800
TZOFFSETTO:-0700
TZNAME:PDT
DTSTART:20270314T100000
END:DAYLIGHT
BEGIN:STANDARD
TZOFFSETFROM:-0700
TZOFFSETTO:-0800
TZNAME:PST
DTSTART:20271107T090000
END:STANDARD
END:VTIMEZONE
BEGIN:VEVENT
DTSTART;TZID=America/Los_Angeles:20260416T100000
DTEND;TZID=America/Los_Angeles:20260416T113000
DTSTAMP:20260419T125500
CREATED:20260413T193752Z
LAST-MODIFIED:20260413T194228Z
UID:10000305-1776333600-1776339000@raincatalysts.org
SUMMARY:Cottage Grove: Co-Work Over Coffee
DESCRIPTION: Co-Work Over Coffee | Cottage Grove\nWhen: April 16th\, 2026Time: 10:00am-11:30amWhere: POUR 818 | 818 Main Street\, Cottage Grove\, OR 97424\n\nCome see what RAIN will be working on in 2026!\n\nBring your laptop\, grab your favorite drink\, and join us for a relaxed morning of productivity and connection at POUR 818. Whether you’re a small business owner\, entrepreneur\, artist or freelancer this is a chance to get things done and connect with local resources while building community.\n\nEnjoy a cozy\, supportive space to:\n-Tackle your to-do list-Brainstorm with fellow professionals-Network and share ideas-Fuel your morning with great coffee\n\nDrop in\, settle in\, grab a coffee on us\, and let’s co-work together!\n\nFor questions\, reach out to your local RAIN Entrepreneurship Navigator\, Brian Brown (brian@raincatalysts.org).
URL:https://raincatalysts.org/event/cottage-grove-co-work-over-coffee-2/
LOCATION:POUR 818\, 818 E. Main Street\, Cottage Grove\, 97424\, United States
CATEGORIES:Co-work Over Coffee,Co-Working,Cottage Grove,Lane County
ATTACH;FMTTYPE=image/jpeg:https://raincatalysts.org/wp-content/uploads/2026/04/RAIN-CG-Pour818-April16.jpg
ORGANIZER;CN="Brian Brown":MAILTO:brian@raincatalysts.org
END:VEVENT
BEGIN:VEVENT
DTSTART;TZID=America/Los_Angeles:20260416T180000
DTEND;TZID=America/Los_Angeles:20260416T193000
DTSTAMP:20260419T125500
CREATED:20260403T215621Z
LAST-MODIFIED:20260417T000420Z
UID:10000301-1776362400-1776367800@raincatalysts.org
SUMMARY:Tech Talk: Class 2 -- Local SEO Made Simple
DESCRIPTION:If your business is great but hard to find online\, this workshop is for you. Tech Talk #2: Local SEO Made Simple explains how customers find local businesses through Google Maps + local search results\, and what to fix first so you don’t waste time. We’ll cover website quick wins (service area clarity\, service pages\, headings)\, reviews/listings basics\, and a realistic 30-minute/week routine to maintain your progress. \nZoom Link: https://us02web.zoom.us/j/8530017338 \n\nMaps vs website results (and why you need both)\nWebsite quick wins for local searches\nReviews & listings basics\nA 30-minute/week checklist you can update/maintain
URL:https://raincatalysts.org/event/tech-talk-class-2-local-seo-made-simple/
CATEGORIES:Cottage Grove,Florence,Lane County,Linn and Benton Counties,Oakridge,Pleasant Hill,Veneta,Virtual Event
ATTACH;FMTTYPE=image/jpeg:https://raincatalysts.org/wp-content/uploads/2026/04/TechTalk_Q1C2_LocalSEOMadeSimple_April16.jpg
ORGANIZER;CN="Brian Brown":MAILTO:brian@raincatalysts.org
END:VEVENT
END:VCALENDAR