BEGIN:VCALENDAR
VERSION:2.0
PRODID:-//RAIN: Regional Accelerator &amp; Innovation Network - ECPv6.15.20//NONSGML v1.0//EN
CALSCALE:GREGORIAN
METHOD:PUBLISH
X-ORIGINAL-URL:https://raincatalysts.org
X-WR-CALDESC:Events for RAIN: Regional Accelerator &amp; Innovation Network
REFRESH-INTERVAL;VALUE=DURATION:PT1H
X-Robots-Tag:noindex
X-PUBLISHED-TTL:PT1H
BEGIN:VTIMEZONE
TZID:America/Los_Angeles
BEGIN:DAYLIGHT
TZOFFSETFROM:-0800
TZOFFSETTO:-0700
TZNAME:PDT
DTSTART:20250309T100000
END:DAYLIGHT
BEGIN:STANDARD
TZOFFSETFROM:-0700
TZOFFSETTO:-0800
TZNAME:PST
DTSTART:20251102T090000
END:STANDARD
BEGIN:DAYLIGHT
TZOFFSETFROM:-0800
TZOFFSETTO:-0700
TZNAME:PDT
DTSTART:20260308T100000
END:DAYLIGHT
BEGIN:STANDARD
TZOFFSETFROM:-0700
TZOFFSETTO:-0800
TZNAME:PST
DTSTART:20261101T090000
END:STANDARD
BEGIN:DAYLIGHT
TZOFFSETFROM:-0800
TZOFFSETTO:-0700
TZNAME:PDT
DTSTART:20270314T100000
END:DAYLIGHT
BEGIN:STANDARD
TZOFFSETFROM:-0700
TZOFFSETTO:-0800
TZNAME:PST
DTSTART:20271107T090000
END:STANDARD
END:VTIMEZONE
BEGIN:VEVENT
DTSTART;TZID=America/Los_Angeles:20260226T120000
DTEND;TZID=America/Los_Angeles:20260226T130000
DTSTAMP:20260418T144619
CREATED:20260217T042114Z
LAST-MODIFIED:20260410T005723Z
UID:10000279-1772107200-1772110800@raincatalysts.org
SUMMARY:Rural CREATOR: Session 1 | Creative-to-Business Mindset & Foundations of Creative Entrepreneurship
DESCRIPTION:Program Structure \nEach workshop includes a creative story\, hands-on exercises\, and peer discussion \n\nWinter (Q1): Business Foundations\, Planning & Strategy\nSpring (Q2): Business Systems\, Branding & Marketing\nSummer (Q3): Selling with Confidence\nFall (Q4): Visibility & Holiday Readiness\n\n2 Classes Each Month via Zoom \n\nWorkshops: 2nd Thursday each month at 12 PM\nCohorts: 4th Thursday each month (Nov/Dec = 3rd Thursday) at 12 PM\n\nApplying & Commitment \n\nFill out the interest form to apply!\nYou may apply for 1 or all of the cohorts. \nYou will have to reapply for each cohort as the year moves forward\nCommit to attend 1 workshops & 1 cohort monthly via Zoom\n\nApply lessons to your creative business\nComplete optional exercises and reflection prompts\nEngage in community group discussions and feedback\n\n\n\nConnect with Rural Creators \n\nJoin our Rural CREATOR Facebook Group\, made for Oregon artists and creatives to collaborate\, ask questions and share resources \n\n\n\n\nAll are welcome\nIt is a safe place for creatives to ask questions\, find community\, share resources and lift each other up\n\n\n\n\nAll updates on the Rural CREATOR course will be posted in the group monthly:\n\n\n\n\nHomework\nDiscussion Questions\nUpcoming Speakers\nWorkshop Topics\n\n\n\nSessions include: \n\nPricing & Money Mindset: Charging What You’re Worth\nBusiness Basics Made Simple: LLCs\, Taxes\, Legal Contracts and the Essentials\nVisual Branding & Storytelling: Clarifying Your Message and Identity\nProduct & Brand Photography: Telling Your Story Visually\nCommunity & Peer Support Time\n\nLearn more about Rural CREATOR. \nSpace in Rural CREATOR is limited! There is no cost to attend\, and it is free to fill out the interest form. \nProgramming is available in English and Spanish. \nThis program is made possible with a generous grant from the Roundhouse Foundation.
URL:https://raincatalysts.org/event/rural-creator-session-1-creative-to-business-mindset-foundations-of-creative-entrepreneurship/
CATEGORIES:Cottage Grove,Florence,Lane County,Linn and Benton Counties,Oakridge,Rural Creator,Veneta,Virtual Event
ATTACH;FMTTYPE=image/jpeg:https://raincatalysts.org/wp-content/uploads/2026/02/rural-creator-accelerator-banner.jpg
ORGANIZER;CN="Ellyn Mole":MAILTO:ellyn@raincatalysts.org
LOCATION:https://raincatalysts.us1.list-manage.com/track/click?u=da90a9a7abbb33a58509f94b8&id=537fe26875&e=d0e5f220b9
END:VEVENT
BEGIN:VEVENT
DTSTART;TZID=America/Los_Angeles:20260212T120000
DTEND;TZID=America/Los_Angeles:20260212T133000
DTSTAMP:20260418T144619
CREATED:20260131T002348Z
LAST-MODIFIED:20260131T003419Z
UID:10000211-1770897600-1770903000@raincatalysts.org
SUMMARY:Rural CREATOR: Balancing Creative and Business Mindset For Success
DESCRIPTION:Turn your craft into a thriving business with RAIN’s Rural Creative Entrepreneurs in Oregon (CREATOR) program! This is a FREE Program!\n\n\n\nRural CREATOR: Balancing Creative and Business Mindset For Success \nJoin us for this introduction to RAIN’s FREE virtual Rural CREATOR program Thursday\, February 12th at 12pm PST. \nAre you an artist\, maker\, designer\, musician\, writer\, or other creative? Have you dreamed about turning your passion into a profitable business\, or taking your existing creative business to the next level? Join RAIN for this introduction to our new Rural CREATOR program. \nHear from local entrepreneurs about their journey from hobby to business\, including: \n\nWhy they decided to start a company\nHow they funded their first steps\nWhat marketing strategies set them up for success\n\nYou’ll also learn about how to join our FREE three-month accelerator program for rural creative sector entrepreneurs. Entrepreneurship Navigators Ellyn Mole and Jorge Estefan will discuss the program sessions and what outcomes you can expect for your business\, whether you are just getting started or want to scale your sales and customer reach. \nSpace in Rural CREATOR is limited! There is no cost to attend\, and it is free to fill out the interest form. \nFuture sessions will include: \n\nPricing & Money Mindset: Charging What You’re Worth\nBusiness Basics Made Simple: LLCs\, Taxes\, Legal Contracts and the Essentials\nVisual Branding & Storytelling: Clarifying Your Message and Identity\nProduct & Brand Photography: Telling Your Story Visually\nCommunity & Peer Support Time\n\nProgramming is available in English and Spanish.\nThis program is made possible with a generous grant from the Roundhouse Foundation. \nRSVP for this virtual + live information session.*\nThursday\, February 12th from 12-1:30 PST\n*Meeting link will be provided when you rsvp
URL:https://raincatalysts.org/event/rural-creator-balancing-creative-and-business-mindset-for-success/
CATEGORIES:Cottage Grove,Florence,Lane County,Linn and Benton Counties,Oakridge,Pleasant Hill,Veneta,Virtual Event
ATTACH;FMTTYPE=image/jpeg:https://raincatalysts.org/wp-content/uploads/2026/01/RAIN-ruralCreator.jpg
ORGANIZER;CN="Ellyn Mole":MAILTO:ellyn@raincatalysts.org
LOCATION:https://www.eventbrite.com/e/rural-creator-info-session-tickets-1981903349269
END:VEVENT
END:VCALENDAR